BEGIN:VCALENDAR
VERSION:2.0
PRODID:-//Haliburton Forest &amp; Wild Life Reserve Ltd - ECPv6.15.17.1//NONSGML v1.0//EN
CALSCALE:GREGORIAN
METHOD:PUBLISH
X-WR-CALNAME:Haliburton Forest &amp; Wild Life Reserve Ltd
X-ORIGINAL-URL:https://www.haliburtonforest.com
X-WR-CALDESC:Events for Haliburton Forest &amp; Wild Life Reserve Ltd
REFRESH-INTERVAL;VALUE=DURATION:PT1H
X-Robots-Tag:noindex
X-PUBLISHED-TTL:PT1H
BEGIN:VTIMEZONE
TZID:America/Toronto
BEGIN:DAYLIGHT
TZOFFSETFROM:-0500
TZOFFSETTO:-0400
TZNAME:EDT
DTSTART:20180311T070000
END:DAYLIGHT
BEGIN:STANDARD
TZOFFSETFROM:-0400
TZOFFSETTO:-0500
TZNAME:EST
DTSTART:20181104T060000
END:STANDARD
BEGIN:DAYLIGHT
TZOFFSETFROM:-0500
TZOFFSETTO:-0400
TZNAME:EDT
DTSTART:20190310T070000
END:DAYLIGHT
BEGIN:STANDARD
TZOFFSETFROM:-0400
TZOFFSETTO:-0500
TZNAME:EST
DTSTART:20191103T060000
END:STANDARD
BEGIN:DAYLIGHT
TZOFFSETFROM:-0500
TZOFFSETTO:-0400
TZNAME:EDT
DTSTART:20200308T070000
END:DAYLIGHT
BEGIN:STANDARD
TZOFFSETFROM:-0400
TZOFFSETTO:-0500
TZNAME:EST
DTSTART:20201101T060000
END:STANDARD
END:VTIMEZONE
BEGIN:VEVENT
DTSTART;TZID=America/Toronto:20190511T100000
DTEND;TZID=America/Toronto:20190511T140000
DTSTAMP:20260419T140138
CREATED:20190121T153131Z
LAST-MODIFIED:20190404T141917Z
UID:10660-1557568800-1557583200@www.haliburtonforest.com
SUMMARY:Log & Lumber Auction
DESCRIPTION:7th Annual Speciality Lumber and Character Log Auction\nWood-aficionados are welcomed to our annual Specialty Lumber and Character Log Auction. At this event\, Haliburton Forest offers a large variety of wood related products. From run of the mill lumber and timbers\, to rarities and oddities. We will have hard and softwood lumber in a variety of dimensions and grades. Bird’s Eye Maple\, Tiger Beech\, Flaming Birch\, oversized Pine and Hemlock\, as well as speciality Oak and Cherry may be available. Other auction items may include: burls\, spalted wood blanks and ingrown trees from small to mammoth proportions.  This is an outdoor event that will run rain or shine. Participants should make sure to dress appropriately for the weather. \nAttendees will be able to view lots on Friday\, May 10 until 10:00 am on the auction day. Haliburton Forest will have generated all wood products on auction and as such they originate from sustainable forestry practices. We will have a mobile mill on-site for customized milling of purchased logs. Buyers can arrange delivery of purchased lots after payment. \nCost: There is no registration fee for this event. Buyers can make payment for purchased items by Visa\, MasterCard\, Cash or Debit. \nPlease pre-register by emailing info@haliburtonforest.com \nCome for the logs\, stay in accommodations. While you are here\, enjoy learning more about the forest with our Celebration of Research\, or a visit to the Wolf Centre.
URL:https://www.haliburtonforest.com/event/log-lumber-auction-2/
END:VEVENT
END:VCALENDAR