BEGIN:VCALENDAR
VERSION:2.0
PRODID:-//Haliburton Forest &amp; Wild Life Reserve Ltd - ECPv6.15.17.1//NONSGML v1.0//EN
CALSCALE:GREGORIAN
METHOD:PUBLISH
X-WR-CALNAME:Haliburton Forest &amp; Wild Life Reserve Ltd
X-ORIGINAL-URL:https://www.haliburtonforest.com
X-WR-CALDESC:Events for Haliburton Forest &amp; Wild Life Reserve Ltd
REFRESH-INTERVAL;VALUE=DURATION:PT1H
X-Robots-Tag:noindex
X-PUBLISHED-TTL:PT1H
BEGIN:VTIMEZONE
TZID:America/Toronto
BEGIN:DAYLIGHT
TZOFFSETFROM:-0500
TZOFFSETTO:-0400
TZNAME:EDT
DTSTART:20190310T070000
END:DAYLIGHT
BEGIN:STANDARD
TZOFFSETFROM:-0400
TZOFFSETTO:-0500
TZNAME:EST
DTSTART:20191103T060000
END:STANDARD
BEGIN:DAYLIGHT
TZOFFSETFROM:-0500
TZOFFSETTO:-0400
TZNAME:EDT
DTSTART:20200308T070000
END:DAYLIGHT
BEGIN:STANDARD
TZOFFSETFROM:-0400
TZOFFSETTO:-0500
TZNAME:EST
DTSTART:20201101T060000
END:STANDARD
BEGIN:DAYLIGHT
TZOFFSETFROM:-0500
TZOFFSETTO:-0400
TZNAME:EDT
DTSTART:20210314T070000
END:DAYLIGHT
BEGIN:STANDARD
TZOFFSETFROM:-0400
TZOFFSETTO:-0500
TZNAME:EST
DTSTART:20211107T060000
END:STANDARD
END:VTIMEZONE
BEGIN:VEVENT
DTSTART;TZID=America/Toronto:20200707T190000
DTEND;TZID=America/Toronto:20200707T203000
DTSTAMP:20260425T101207
CREATED:20190907T133403Z
LAST-MODIFIED:20200714T183509Z
UID:11769-1594148400-1594153800@www.haliburtonforest.com
SUMMARY:CANCELLED ~ Presentations of the Natural World
DESCRIPTION:Presenting: Natural History\n \nIn addition to all our other amazing summer events\, Haliburton Forest offers a series of Natural History Presentations. Partnered with individuals as well as organisations\, these 1-2 hour Tuesday night seminars will vary in themes. Topics may cover research being conducted at Haliburton Forest\, natural landscapes and ecosystems\, local flora and fauna\, or even environmental concerns. All in all\, these presentations are a great way to keep your gears turning throughout the summer months. Topics TBA \nCost: There is no charge for this event. \nPrior to the presentation\, grab a bite to eat at the Cookhouse Restaurant.  Camp or stay overnight and add some more education to your trip with a visit to the Wolf Centre. Make a mini-vacation of it and explore our extensive hiking/mountain biking trails.
URL:https://www.haliburtonforest.com/event/presentations-of-the-natural-world-2/
LOCATION:1095 Redkenn Road\, Haliburton\, Ontario\, K0M1S0\, Canada
END:VEVENT
BEGIN:VEVENT
DTSTART;TZID=America/Toronto:20200707T190000
DTEND;TZID=America/Toronto:20200707T203000
DTSTAMP:20260425T101207
CREATED:20190907T133403Z
LAST-MODIFIED:20200714T183509Z
UID:11769-1594148400-1594153800@www.haliburtonforest.com
SUMMARY:CANCELLED ~ Presentations of the Natural World
DESCRIPTION:Presenting: Natural History\n \nIn addition to all our other amazing summer events\, Haliburton Forest offers a series of Natural History Presentations. Partnered with individuals as well as organisations\, these 1-2 hour Tuesday night seminars will vary in themes. Topics may cover research being conducted at Haliburton Forest\, natural landscapes and ecosystems\, local flora and fauna\, or even environmental concerns. All in all\, these presentations are a great way to keep your gears turning throughout the summer months. Topics TBA \nCost: There is no charge for this event. \nPrior to the presentation\, grab a bite to eat at the Cookhouse Restaurant.  Camp or stay overnight and add some more education to your trip with a visit to the Wolf Centre. Make a mini-vacation of it and explore our extensive hiking/mountain biking trails.
URL:https://www.haliburtonforest.com/event/presentations-of-the-natural-world-2/
LOCATION:1095 Redkenn Road\, Haliburton\, Ontario\, K0M1S0\, Canada
END:VEVENT
BEGIN:VEVENT
DTSTART;TZID=America/Toronto:20200707T190000
DTEND;TZID=America/Toronto:20200707T203000
DTSTAMP:20260425T101207
CREATED:20190907T133403Z
LAST-MODIFIED:20200714T183509Z
UID:11769-1594148400-1594153800@www.haliburtonforest.com
SUMMARY:CANCELLED ~ Presentations of the Natural World
DESCRIPTION:Presenting: Natural History\n \nIn addition to all our other amazing summer events\, Haliburton Forest offers a series of Natural History Presentations. Partnered with individuals as well as organisations\, these 1-2 hour Tuesday night seminars will vary in themes. Topics may cover research being conducted at Haliburton Forest\, natural landscapes and ecosystems\, local flora and fauna\, or even environmental concerns. All in all\, these presentations are a great way to keep your gears turning throughout the summer months. Topics TBA \nCost: There is no charge for this event. \nPrior to the presentation\, grab a bite to eat at the Cookhouse Restaurant.  Camp or stay overnight and add some more education to your trip with a visit to the Wolf Centre. Make a mini-vacation of it and explore our extensive hiking/mountain biking trails.
URL:https://www.haliburtonforest.com/event/presentations-of-the-natural-world-2/
LOCATION:1095 Redkenn Road\, Haliburton\, Ontario\, K0M1S0\, Canada
END:VEVENT
BEGIN:VEVENT
DTSTART;TZID=America/Toronto:20200707T190000
DTEND;TZID=America/Toronto:20200707T203000
DTSTAMP:20260425T101207
CREATED:20190907T133403Z
LAST-MODIFIED:20200714T183509Z
UID:11769-1594148400-1594153800@www.haliburtonforest.com
SUMMARY:CANCELLED ~ Presentations of the Natural World
DESCRIPTION:Presenting: Natural History\n \nIn addition to all our other amazing summer events\, Haliburton Forest offers a series of Natural History Presentations. Partnered with individuals as well as organisations\, these 1-2 hour Tuesday night seminars will vary in themes. Topics may cover research being conducted at Haliburton Forest\, natural landscapes and ecosystems\, local flora and fauna\, or even environmental concerns. All in all\, these presentations are a great way to keep your gears turning throughout the summer months. Topics TBA \nCost: There is no charge for this event. \nPrior to the presentation\, grab a bite to eat at the Cookhouse Restaurant.  Camp or stay overnight and add some more education to your trip with a visit to the Wolf Centre. Make a mini-vacation of it and explore our extensive hiking/mountain biking trails.
URL:https://www.haliburtonforest.com/event/presentations-of-the-natural-world-2/
LOCATION:1095 Redkenn Road\, Haliburton\, Ontario\, K0M1S0\, Canada
END:VEVENT
END:VCALENDAR