BEGIN:VCALENDAR
VERSION:2.0
PRODID:-//Haliburton Forest &amp; Wild Life Reserve Ltd - ECPv6.15.17.1//NONSGML v1.0//EN
CALSCALE:GREGORIAN
METHOD:PUBLISH
X-ORIGINAL-URL:https://www.haliburtonforest.com
X-WR-CALDESC:Events for Haliburton Forest &amp; Wild Life Reserve Ltd
REFRESH-INTERVAL;VALUE=DURATION:PT1H
X-Robots-Tag:noindex
X-PUBLISHED-TTL:PT1H
BEGIN:VTIMEZONE
TZID:America/Toronto
BEGIN:DAYLIGHT
TZOFFSETFROM:-0500
TZOFFSETTO:-0400
TZNAME:EDT
DTSTART:20200308T070000
END:DAYLIGHT
BEGIN:STANDARD
TZOFFSETFROM:-0400
TZOFFSETTO:-0500
TZNAME:EST
DTSTART:20201101T060000
END:STANDARD
BEGIN:DAYLIGHT
TZOFFSETFROM:-0500
TZOFFSETTO:-0400
TZNAME:EDT
DTSTART:20210314T070000
END:DAYLIGHT
BEGIN:STANDARD
TZOFFSETFROM:-0400
TZOFFSETTO:-0500
TZNAME:EST
DTSTART:20211107T060000
END:STANDARD
BEGIN:DAYLIGHT
TZOFFSETFROM:-0500
TZOFFSETTO:-0400
TZNAME:EDT
DTSTART:20220313T070000
END:DAYLIGHT
BEGIN:STANDARD
TZOFFSETFROM:-0400
TZOFFSETTO:-0500
TZNAME:EST
DTSTART:20221106T060000
END:STANDARD
END:VTIMEZONE
BEGIN:VEVENT
DTSTART;TZID=America/Toronto:20210410T100000
DTEND;TZID=America/Toronto:20210410T103000
DTSTAMP:20260423T144746
CREATED:20210326T130500Z
LAST-MODIFIED:20210402T133939Z
UID:13863-1618048800-1618050600@www.haliburtonforest.com
SUMMARY:CANCELLED - Kennel Tour
DESCRIPTION:This event has been cancelled due to the COVID-19 Provincial Emergency Brake. \nCome snuggle with our kennel of incredibly friendly Siberian huskies! Our kennel staff will bring you right into our kennel\, where you can get up close and personal with our energetic pooches. After 30 minutes of quality time with our four-legged family\, you’ll have a smile glued to your face and a lightness in your heart. \nTours will run twice daily\, at 10am and 4pm. \n\n$10.00 per individual\n$20.00 per family (2 adults\, 2 children)\n\nBook your tour time here!
URL:https://www.haliburtonforest.com/event/kennel-tour/
LOCATION:Haliburton Forest & Wild Life Reserve Ltd\, 1095 Redkenn Road\, Haliburton\, Ontario\, K0M1S0\, Canada
END:VEVENT
BEGIN:VEVENT
DTSTART;TZID=America/Toronto:20210410T113000
DTEND;TZID=America/Toronto:20210410T140000
DTSTAMP:20260423T144746
CREATED:20210326T123520Z
LAST-MODIFIED:20210402T133712Z
UID:13843-1618054200-1618063200@www.haliburtonforest.com
SUMMARY:CANCELLED - Husky Hikes
DESCRIPTION:This event has been cancelled due to the COVID-19 Provincial Emergency Brake.  \nOur Siberian huskies love meeting new people and making friends. They also enjoy going out for harnessed hikes\, sniffing the trees\, rolling in the grass and working on their directional commands. What better way to enjoy the day! \nHusky Hikes depart at 11:30 am and are approximately 2.5 hours long. Advanced reservations are required. Book your tour time here! \nFees below are subject to HST. \n\n$40.00 per individual\n$85.00 per family (2 adults and their children
URL:https://www.haliburtonforest.com/event/husky-hikes/
LOCATION:Haliburton Forest & Wild Life Reserve Ltd\, 1095 Redkenn Road\, Haliburton\, Ontario\, K0M1S0\, Canada
END:VEVENT
BEGIN:VEVENT
DTSTART;TZID=America/Toronto:20210412T133000
DTEND;TZID=America/Toronto:20210412T153000
DTSTAMP:20260423T144746
CREATED:20210326T122127Z
LAST-MODIFIED:20210402T134105Z
UID:13838-1618234200-1618241400@www.haliburtonforest.com
SUMMARY:CANCELLED - Sawmill Tour
DESCRIPTION:This event has been cancelled due to the COVID-19 Provincial Emergency Brake.\n\nAt Haliburton Forest\, we are proud of our involvement in the timber industry\, and we are happy to share our knowledge about the land and wood processing with the public. Accordingly\, we are able to offer tours of our forestry operations and of the sawmill.\n\nAs an extension of its forest\, all products generated at the Haliburton Forest sawmill are certified by the internationally recognized Forest Stewardship Council (FSC®) as using only timber from our sustainable forestry operations\, a designation rarely achieved on this continent. This assures customers that the highest level of environmental and social care is being taken in the generation of all wood products at Haliburton Forest. \nFor 2021 we are happy to offer a modified tour during the April Spring Break (March Break) on Monday\, April 12\, Wednesday\, April 14\, and Friday April 16 from 1:30 pm to 3:30 pm. This tour will be free of all charges\, you can register here.
URL:https://www.haliburtonforest.com/event/sawmill-tour-3/
LOCATION:Haliburton Forest & Wild Life Reserve Ltd\, 1095 Redkenn Road\, Haliburton\, Ontario\, K0M1S0\, Canada
END:VEVENT
END:VCALENDAR