BEGIN:VCALENDAR
VERSION:2.0
PRODID:-//Haliburton Forest &amp; Wild Life Reserve Ltd - ECPv6.15.17.1//NONSGML v1.0//EN
CALSCALE:GREGORIAN
METHOD:PUBLISH
X-WR-CALNAME:Haliburton Forest &amp; Wild Life Reserve Ltd
X-ORIGINAL-URL:https://www.haliburtonforest.com
X-WR-CALDESC:Events for Haliburton Forest &amp; Wild Life Reserve Ltd
REFRESH-INTERVAL;VALUE=DURATION:PT1H
X-Robots-Tag:noindex
X-PUBLISHED-TTL:PT1H
BEGIN:VTIMEZONE
TZID:America/Toronto
BEGIN:DAYLIGHT
TZOFFSETFROM:-0500
TZOFFSETTO:-0400
TZNAME:EDT
DTSTART:20170312T070000
END:DAYLIGHT
BEGIN:STANDARD
TZOFFSETFROM:-0400
TZOFFSETTO:-0500
TZNAME:EST
DTSTART:20171105T060000
END:STANDARD
BEGIN:DAYLIGHT
TZOFFSETFROM:-0500
TZOFFSETTO:-0400
TZNAME:EDT
DTSTART:20180311T070000
END:DAYLIGHT
BEGIN:STANDARD
TZOFFSETFROM:-0400
TZOFFSETTO:-0500
TZNAME:EST
DTSTART:20181104T060000
END:STANDARD
BEGIN:DAYLIGHT
TZOFFSETFROM:-0500
TZOFFSETTO:-0400
TZNAME:EDT
DTSTART:20190310T070000
END:DAYLIGHT
BEGIN:STANDARD
TZOFFSETFROM:-0400
TZOFFSETTO:-0500
TZNAME:EST
DTSTART:20191103T060000
END:STANDARD
END:VTIMEZONE
BEGIN:VEVENT
DTSTART;TZID=America/Toronto:20180331T110000
DTEND;TZID=America/Toronto:20180331T150000
DTSTAMP:20260425T071415
CREATED:20180321T161047Z
LAST-MODIFIED:20180321T161047Z
UID:8826-1522494000-1522508400@www.haliburtonforest.com
SUMMARY:Easter Bunny Chase
DESCRIPTION:Are you chasing adventure for the whole family this Easter?\n \nFamilies can join us this Easter for our 1st Annual Bunny Chase! To begin the Easter fun\, register at the Wolf Centre on Saturday\, March 31\, between 11 am and 1 pm. \nGet your family out to spend some quality time following clues\, finding puzzle pieces hidden around Base Camp. Families who have collected all the puzzle pieces can assemble their puzzle to gain a raffle ticket for the chance to win one of 3 AMAZING prizes.  Prizes to be announced a few days before the event.  The family to complete their puzzle FIRST will win a family membership to the Wolf Centre! \nThose who finish hunting quick like a bunny can head to the Seminar Building for some more activities.  Haliburton Forest Staff will be showing the movie Hop at 1 pm.  We will also be set up for participants to make a lovely Easter creation. \nPrizes will be drawn at 3 pm.  Winners do not have to be present for the draw.  Want more chances to win a prize?  Share a photo of your experience on social media with the #haliburtonforest and tag @haliburton_forest (on Instagram)\, @HaliburtonForest (on Facebook) to claim an additional ticket for the draw! \nPre-registration is not required. Participation Fee is the regular Wolf Centre admission ($25 per family). \nWhile visiting the Wolf Centre\, don’t forget to check out The Cookhouse Restaurant\, The Woodshop\, and our resident moose\, Hershe.
URL:https://www.haliburtonforest.com/event/easter-bunny-chase/
LOCATION:Ontario
END:VEVENT
END:VCALENDAR