BEGIN:VCALENDAR
VERSION:2.0
PRODID:-//Haliburton Forest &amp; Wild Life Reserve Ltd - ECPv6.15.17.1//NONSGML v1.0//EN
CALSCALE:GREGORIAN
METHOD:PUBLISH
X-ORIGINAL-URL:https://www.haliburtonforest.com
X-WR-CALDESC:Events for Haliburton Forest &amp; Wild Life Reserve Ltd
REFRESH-INTERVAL;VALUE=DURATION:PT1H
X-Robots-Tag:noindex
X-PUBLISHED-TTL:PT1H
BEGIN:VTIMEZONE
TZID:America/Toronto
BEGIN:DAYLIGHT
TZOFFSETFROM:-0500
TZOFFSETTO:-0400
TZNAME:EDT
DTSTART:20180311T070000
END:DAYLIGHT
BEGIN:STANDARD
TZOFFSETFROM:-0400
TZOFFSETTO:-0500
TZNAME:EST
DTSTART:20181104T060000
END:STANDARD
BEGIN:DAYLIGHT
TZOFFSETFROM:-0500
TZOFFSETTO:-0400
TZNAME:EDT
DTSTART:20190310T070000
END:DAYLIGHT
BEGIN:STANDARD
TZOFFSETFROM:-0400
TZOFFSETTO:-0500
TZNAME:EST
DTSTART:20191103T060000
END:STANDARD
BEGIN:DAYLIGHT
TZOFFSETFROM:-0500
TZOFFSETTO:-0400
TZNAME:EDT
DTSTART:20200308T070000
END:DAYLIGHT
BEGIN:STANDARD
TZOFFSETFROM:-0400
TZOFFSETTO:-0500
TZNAME:EST
DTSTART:20201101T060000
END:STANDARD
END:VTIMEZONE
BEGIN:VEVENT
DTSTART;TZID=America/Toronto:20190421T110000
DTEND;TZID=America/Toronto:20190421T150000
DTSTAMP:20260424T125511
CREATED:20180917T140830Z
LAST-MODIFIED:20190411T010918Z
UID:9984-1555844400-1555858800@www.haliburtonforest.com
SUMMARY:Easter Bunny Chase 2019
DESCRIPTION: Are you chasing adventure for the whole family this Easter?\n\nAre you chasing adventure for the whole family this Easter? \n\n\n \n\n\nJoin us again this year for our 2019 Bunny Chase! To begin the fun\, register at the Wolf Centre on Sunday\, April 21st\, between 11 am and 1 pm. \n\n\nSpend some quality time with your family while following clues\, do some crafts\, find Easter eggs\, chocolate and small prizes hidden at different points around Base Camp. Keep your eyes open for the golden ticket! If you find it\, you’ll be the lucky winner of an AMAZING prize to make the outdoors great this summer. The first family to visit every location will win a family membership to the Wolf Centre! \n\n\n \n\n\nShare a photo of your experience on social media with the #haliburtonforest and tag @haliburton_forest or @haliburtonforestwolfcentre (on Instagram)\, @HaliburtonForest (on Facebook) to spread the fun!\n\n\n \n\n\n\n\nPre-registration is not required. Participation Fee is regular Wolf Centre admission ($25 per family)You can pre-pay your admission online here. \nWhile visiting Haliburton Forest don’t forget to check out The Cookhouse Restaurant\, The Woodshop\, and our resident moose\, Hershe.
URL:https://www.haliburtonforest.com/event/easter-bunny-chase-2019/
LOCATION:Ontario
END:VEVENT
END:VCALENDAR