BEGIN:VCALENDAR
VERSION:2.0
PRODID:-//Haliburton Forest &amp; Wild Life Reserve Ltd - ECPv6.15.17.1//NONSGML v1.0//EN
CALSCALE:GREGORIAN
METHOD:PUBLISH
X-ORIGINAL-URL:https://www.haliburtonforest.com
X-WR-CALDESC:Events for Haliburton Forest &amp; Wild Life Reserve Ltd
REFRESH-INTERVAL;VALUE=DURATION:PT1H
X-Robots-Tag:noindex
X-PUBLISHED-TTL:PT1H
BEGIN:VTIMEZONE
TZID:America/Toronto
BEGIN:DAYLIGHT
TZOFFSETFROM:-0500
TZOFFSETTO:-0400
TZNAME:EDT
DTSTART:20180311T070000
END:DAYLIGHT
BEGIN:STANDARD
TZOFFSETFROM:-0400
TZOFFSETTO:-0500
TZNAME:EST
DTSTART:20181104T060000
END:STANDARD
BEGIN:DAYLIGHT
TZOFFSETFROM:-0500
TZOFFSETTO:-0400
TZNAME:EDT
DTSTART:20190310T070000
END:DAYLIGHT
BEGIN:STANDARD
TZOFFSETFROM:-0400
TZOFFSETTO:-0500
TZNAME:EST
DTSTART:20191103T060000
END:STANDARD
BEGIN:DAYLIGHT
TZOFFSETFROM:-0500
TZOFFSETTO:-0400
TZNAME:EDT
DTSTART:20200308T070000
END:DAYLIGHT
BEGIN:STANDARD
TZOFFSETFROM:-0400
TZOFFSETTO:-0500
TZNAME:EST
DTSTART:20201101T060000
END:STANDARD
END:VTIMEZONE
BEGIN:VEVENT
DTSTART;TZID=America/Toronto:20190216T100000
DTEND;TZID=America/Toronto:20190216T150000
DTSTAMP:20260424T154946
CREATED:20190210T185815Z
LAST-MODIFIED:20190210T191522Z
UID:10741-1550311200-1550329200@www.haliburtonforest.com
SUMMARY:The Wildlife - Meet and Greet
DESCRIPTION:Meet the animals of The Wildlife!\n\n\n \n\n\n\nThe Wildlife is coming to Haliburton Forest! Meet Coco and Kisses\, a pair of miniature horses\, Arlo the alpaca\, and Harvey the mini pig. They along with Butter the bunny will be looking for lots of pets and attention and treats this Family Day weekend. Come meet these furry teachers on Saturday February 16th from 10 am – 3 pm at the Seminar Building at Base camp. \n \n*Please do not bring treats from home\, the animals have special diets \nMake sure to check out The Wildlife online\, and on Facebook to learn more about trail rides\, forest product and more! \nFor more information\, please contact The Wildlife at contact@thewildlife.info or 705-306-9346. \nLove animals? Make sure to also pay a visit the Wolf Centre\, just 1 km down the road! You can also grab a bite to eat at our onsite restaurant\, The Cookhouse.
URL:https://www.haliburtonforest.com/event/the-wildlife-meet-and-greet/
LOCATION:Haliburton Forest\, 1095 Redkenn Road\, Haliburton\, Ontario\, K0M 1S0\, Canada
END:VEVENT
END:VCALENDAR