BEGIN:VCALENDAR
VERSION:2.0
PRODID:-//Haliburton Forest &amp; Wild Life Reserve Ltd - ECPv6.15.17.1//NONSGML v1.0//EN
CALSCALE:GREGORIAN
METHOD:PUBLISH
X-WR-CALNAME:Haliburton Forest &amp; Wild Life Reserve Ltd
X-ORIGINAL-URL:https://www.haliburtonforest.com
X-WR-CALDESC:Events for Haliburton Forest &amp; Wild Life Reserve Ltd
REFRESH-INTERVAL;VALUE=DURATION:PT1H
X-Robots-Tag:noindex
X-PUBLISHED-TTL:PT1H
BEGIN:VTIMEZONE
TZID:America/Toronto
BEGIN:DAYLIGHT
TZOFFSETFROM:-0500
TZOFFSETTO:-0400
TZNAME:EDT
DTSTART:20180311T070000
END:DAYLIGHT
BEGIN:STANDARD
TZOFFSETFROM:-0400
TZOFFSETTO:-0500
TZNAME:EST
DTSTART:20181104T060000
END:STANDARD
BEGIN:DAYLIGHT
TZOFFSETFROM:-0500
TZOFFSETTO:-0400
TZNAME:EDT
DTSTART:20190310T070000
END:DAYLIGHT
BEGIN:STANDARD
TZOFFSETFROM:-0400
TZOFFSETTO:-0500
TZNAME:EST
DTSTART:20191103T060000
END:STANDARD
BEGIN:DAYLIGHT
TZOFFSETFROM:-0500
TZOFFSETTO:-0400
TZNAME:EDT
DTSTART:20200308T070000
END:DAYLIGHT
BEGIN:STANDARD
TZOFFSETFROM:-0400
TZOFFSETTO:-0500
TZNAME:EST
DTSTART:20201101T060000
END:STANDARD
END:VTIMEZONE
BEGIN:VEVENT
DTSTART;TZID=America/Toronto:20190625T190000
DTEND;TZID=America/Toronto:20190625T203000
DTSTAMP:20260425T211834
CREATED:20190113T211300Z
LAST-MODIFIED:20190628T173054Z
UID:10455-1561489200-1561494600@www.haliburtonforest.com
SUMMARY:Presentations of the Natural World
DESCRIPTION:Presenting: Natural History\n \nIn addition to all our other amazing summer events\, Haliburton Forest offers a series of Natural History Presentations. Partnered with individuals as well as organisations\, these 1-2 hour Tuesday night seminars will vary in themes. Topics may cover research being conducted at Haliburton Forest\, natural landscapes and ecosystems\, local flora and fauna\, or even environmental concerns. All in all\, these presentations are a great way to keep your gears turning throughout the summer months.Topics TBA \nCost: There is no charge for this event. \nPrior to the presentation\, grab a bite to eat at the Cookhouse Restaurant.  Camp or stay overnight and add some more education to your trip with a visit to the Wolf Centre. Make a mini-vacation of it and explore our extensive hiking/mountain biking trails. \n \n  \nFor more information please call 1-800-631-2198 (Ext. Main Office) or email reservations@haliburtonforest.com 
URL:https://www.haliburtonforest.com/event/presentations-of-the-natural-world/
END:VEVENT
BEGIN:VEVENT
DTSTART;TZID=America/Toronto:20190518T160000
DTEND;TZID=America/Toronto:20190518T160000
DTSTAMP:20260425T211834
CREATED:20190113T195724Z
LAST-MODIFIED:20190316T144914Z
UID:10301-1558195200-1558195200@www.haliburtonforest.com
SUMMARY:Kennel Kisses
DESCRIPTION:Come into our kennel\, and meet our sled dogs.\n \nWant a little love in your life? Come snuggle with some of our beautiful and incredibly friendly Siberian huskies at our onsite kennel! While visiting the dogs\, you will have the exclusive opportunity to learn and ask questions about how they run as a team\, and love doing it. Each Tour will be approximately 30 minutes in length. \nRegister in advance under our Summer Events to reserve your visit. \nCost: $5 per person\, $10 per family. \nLoved visiting the dogs? Book a dog sled tour for you and your family this winter.
URL:https://www.haliburtonforest.com/event/kennel-kisses/
END:VEVENT
BEGIN:VEVENT
DTSTART;TZID=America/Toronto:20190518T160000
DTEND;TZID=America/Toronto:20190518T160000
DTSTAMP:20260425T211834
CREATED:20190113T195724Z
LAST-MODIFIED:20190316T144914Z
UID:10301-1558195200-1558195200@www.haliburtonforest.com
SUMMARY:Kennel Kisses
DESCRIPTION:Come into our kennel\, and meet our sled dogs.\n \nWant a little love in your life? Come snuggle with some of our beautiful and incredibly friendly Siberian huskies at our onsite kennel! While visiting the dogs\, you will have the exclusive opportunity to learn and ask questions about how they run as a team\, and love doing it. Each Tour will be approximately 30 minutes in length. \nRegister in advance under our Summer Events to reserve your visit. \nCost: $5 per person\, $10 per family. \nLoved visiting the dogs? Book a dog sled tour for you and your family this winter.
URL:https://www.haliburtonforest.com/event/kennel-kisses/
END:VEVENT
BEGIN:VEVENT
DTSTART;TZID=America/Toronto:20190518T160000
DTEND;TZID=America/Toronto:20190518T160000
DTSTAMP:20260425T211834
CREATED:20190113T195724Z
LAST-MODIFIED:20190316T144914Z
UID:10301-1558195200-1558195200@www.haliburtonforest.com
SUMMARY:Kennel Kisses
DESCRIPTION:Come into our kennel\, and meet our sled dogs.\n \nWant a little love in your life? Come snuggle with some of our beautiful and incredibly friendly Siberian huskies at our onsite kennel! While visiting the dogs\, you will have the exclusive opportunity to learn and ask questions about how they run as a team\, and love doing it. Each Tour will be approximately 30 minutes in length. \nRegister in advance under our Summer Events to reserve your visit. \nCost: $5 per person\, $10 per family. \nLoved visiting the dogs? Book a dog sled tour for you and your family this winter.
URL:https://www.haliburtonforest.com/event/kennel-kisses/
END:VEVENT
BEGIN:VEVENT
DTSTART;TZID=America/Toronto:20190518T160000
DTEND;TZID=America/Toronto:20190518T160000
DTSTAMP:20260425T211834
CREATED:20190113T195724Z
LAST-MODIFIED:20190316T144914Z
UID:10301-1558195200-1558195200@www.haliburtonforest.com
SUMMARY:Kennel Kisses
DESCRIPTION:Come into our kennel\, and meet our sled dogs.\n \nWant a little love in your life? Come snuggle with some of our beautiful and incredibly friendly Siberian huskies at our onsite kennel! While visiting the dogs\, you will have the exclusive opportunity to learn and ask questions about how they run as a team\, and love doing it. Each Tour will be approximately 30 minutes in length. \nRegister in advance under our Summer Events to reserve your visit. \nCost: $5 per person\, $10 per family. \nLoved visiting the dogs? Book a dog sled tour for you and your family this winter.
URL:https://www.haliburtonforest.com/event/kennel-kisses/
END:VEVENT
BEGIN:VEVENT
DTSTART;TZID=America/Toronto:20190518T160000
DTEND;TZID=America/Toronto:20190518T160000
DTSTAMP:20260425T211834
CREATED:20190113T195724Z
LAST-MODIFIED:20190316T144914Z
UID:10301-1558195200-1558195200@www.haliburtonforest.com
SUMMARY:Kennel Kisses
DESCRIPTION:Come into our kennel\, and meet our sled dogs.\n \nWant a little love in your life? Come snuggle with some of our beautiful and incredibly friendly Siberian huskies at our onsite kennel! While visiting the dogs\, you will have the exclusive opportunity to learn and ask questions about how they run as a team\, and love doing it. Each Tour will be approximately 30 minutes in length. \nRegister in advance under our Summer Events to reserve your visit. \nCost: $5 per person\, $10 per family. \nLoved visiting the dogs? Book a dog sled tour for you and your family this winter.
URL:https://www.haliburtonforest.com/event/kennel-kisses/
END:VEVENT
BEGIN:VEVENT
DTSTART;TZID=America/Toronto:20190518T160000
DTEND;TZID=America/Toronto:20190518T160000
DTSTAMP:20260425T211834
CREATED:20190113T195724Z
LAST-MODIFIED:20190316T144914Z
UID:10301-1558195200-1558195200@www.haliburtonforest.com
SUMMARY:Kennel Kisses
DESCRIPTION:Come into our kennel\, and meet our sled dogs.\n \nWant a little love in your life? Come snuggle with some of our beautiful and incredibly friendly Siberian huskies at our onsite kennel! While visiting the dogs\, you will have the exclusive opportunity to learn and ask questions about how they run as a team\, and love doing it. Each Tour will be approximately 30 minutes in length. \nRegister in advance under our Summer Events to reserve your visit. \nCost: $5 per person\, $10 per family. \nLoved visiting the dogs? Book a dog sled tour for you and your family this winter.
URL:https://www.haliburtonforest.com/event/kennel-kisses/
END:VEVENT
BEGIN:VEVENT
DTSTART;TZID=America/Toronto:20190518T160000
DTEND;TZID=America/Toronto:20190518T160000
DTSTAMP:20260425T211834
CREATED:20190113T195724Z
LAST-MODIFIED:20190316T144914Z
UID:10301-1558195200-1558195200@www.haliburtonforest.com
SUMMARY:Kennel Kisses
DESCRIPTION:Come into our kennel\, and meet our sled dogs.\n \nWant a little love in your life? Come snuggle with some of our beautiful and incredibly friendly Siberian huskies at our onsite kennel! While visiting the dogs\, you will have the exclusive opportunity to learn and ask questions about how they run as a team\, and love doing it. Each Tour will be approximately 30 minutes in length. \nRegister in advance under our Summer Events to reserve your visit. \nCost: $5 per person\, $10 per family. \nLoved visiting the dogs? Book a dog sled tour for you and your family this winter.
URL:https://www.haliburtonforest.com/event/kennel-kisses/
END:VEVENT
BEGIN:VEVENT
DTSTART;TZID=America/Toronto:20190518T160000
DTEND;TZID=America/Toronto:20190518T160000
DTSTAMP:20260425T211834
CREATED:20190113T195724Z
LAST-MODIFIED:20190316T144914Z
UID:10301-1558195200-1558195200@www.haliburtonforest.com
SUMMARY:Kennel Kisses
DESCRIPTION:Come into our kennel\, and meet our sled dogs.\n \nWant a little love in your life? Come snuggle with some of our beautiful and incredibly friendly Siberian huskies at our onsite kennel! While visiting the dogs\, you will have the exclusive opportunity to learn and ask questions about how they run as a team\, and love doing it. Each Tour will be approximately 30 minutes in length. \nRegister in advance under our Summer Events to reserve your visit. \nCost: $5 per person\, $10 per family. \nLoved visiting the dogs? Book a dog sled tour for you and your family this winter.
URL:https://www.haliburtonforest.com/event/kennel-kisses/
END:VEVENT
BEGIN:VEVENT
DTSTART;TZID=America/Toronto:20190518T160000
DTEND;TZID=America/Toronto:20190518T160000
DTSTAMP:20260425T211834
CREATED:20190113T195724Z
LAST-MODIFIED:20190316T144914Z
UID:10301-1558195200-1558195200@www.haliburtonforest.com
SUMMARY:Kennel Kisses
DESCRIPTION:Come into our kennel\, and meet our sled dogs.\n \nWant a little love in your life? Come snuggle with some of our beautiful and incredibly friendly Siberian huskies at our onsite kennel! While visiting the dogs\, you will have the exclusive opportunity to learn and ask questions about how they run as a team\, and love doing it. Each Tour will be approximately 30 minutes in length. \nRegister in advance under our Summer Events to reserve your visit. \nCost: $5 per person\, $10 per family. \nLoved visiting the dogs? Book a dog sled tour for you and your family this winter.
URL:https://www.haliburtonforest.com/event/kennel-kisses/
END:VEVENT
BEGIN:VEVENT
DTSTART;TZID=America/Toronto:20190518T160000
DTEND;TZID=America/Toronto:20190518T160000
DTSTAMP:20260425T211834
CREATED:20190113T195724Z
LAST-MODIFIED:20190316T144914Z
UID:10301-1558195200-1558195200@www.haliburtonforest.com
SUMMARY:Kennel Kisses
DESCRIPTION:Come into our kennel\, and meet our sled dogs.\n \nWant a little love in your life? Come snuggle with some of our beautiful and incredibly friendly Siberian huskies at our onsite kennel! While visiting the dogs\, you will have the exclusive opportunity to learn and ask questions about how they run as a team\, and love doing it. Each Tour will be approximately 30 minutes in length. \nRegister in advance under our Summer Events to reserve your visit. \nCost: $5 per person\, $10 per family. \nLoved visiting the dogs? Book a dog sled tour for you and your family this winter.
URL:https://www.haliburtonforest.com/event/kennel-kisses/
END:VEVENT
BEGIN:VEVENT
DTSTART;TZID=America/Toronto:20190518T160000
DTEND;TZID=America/Toronto:20190518T160000
DTSTAMP:20260425T211834
CREATED:20190113T195724Z
LAST-MODIFIED:20190316T144914Z
UID:10301-1558195200-1558195200@www.haliburtonforest.com
SUMMARY:Kennel Kisses
DESCRIPTION:Come into our kennel\, and meet our sled dogs.\n \nWant a little love in your life? Come snuggle with some of our beautiful and incredibly friendly Siberian huskies at our onsite kennel! While visiting the dogs\, you will have the exclusive opportunity to learn and ask questions about how they run as a team\, and love doing it. Each Tour will be approximately 30 minutes in length. \nRegister in advance under our Summer Events to reserve your visit. \nCost: $5 per person\, $10 per family. \nLoved visiting the dogs? Book a dog sled tour for you and your family this winter.
URL:https://www.haliburtonforest.com/event/kennel-kisses/
END:VEVENT
BEGIN:VEVENT
DTSTART;TZID=America/Toronto:20190518T160000
DTEND;TZID=America/Toronto:20190518T160000
DTSTAMP:20260425T211834
CREATED:20190113T195724Z
LAST-MODIFIED:20190316T144914Z
UID:10301-1558195200-1558195200@www.haliburtonforest.com
SUMMARY:Kennel Kisses
DESCRIPTION:Come into our kennel\, and meet our sled dogs.\n \nWant a little love in your life? Come snuggle with some of our beautiful and incredibly friendly Siberian huskies at our onsite kennel! While visiting the dogs\, you will have the exclusive opportunity to learn and ask questions about how they run as a team\, and love doing it. Each Tour will be approximately 30 minutes in length. \nRegister in advance under our Summer Events to reserve your visit. \nCost: $5 per person\, $10 per family. \nLoved visiting the dogs? Book a dog sled tour for you and your family this winter.
URL:https://www.haliburtonforest.com/event/kennel-kisses/
END:VEVENT
BEGIN:VEVENT
DTSTART;TZID=America/Toronto:20190518T160000
DTEND;TZID=America/Toronto:20190518T160000
DTSTAMP:20260425T211834
CREATED:20190113T195724Z
LAST-MODIFIED:20190316T144914Z
UID:10301-1558195200-1558195200@www.haliburtonforest.com
SUMMARY:Kennel Kisses
DESCRIPTION:Come into our kennel\, and meet our sled dogs.\n \nWant a little love in your life? Come snuggle with some of our beautiful and incredibly friendly Siberian huskies at our onsite kennel! While visiting the dogs\, you will have the exclusive opportunity to learn and ask questions about how they run as a team\, and love doing it. Each Tour will be approximately 30 minutes in length. \nRegister in advance under our Summer Events to reserve your visit. \nCost: $5 per person\, $10 per family. \nLoved visiting the dogs? Book a dog sled tour for you and your family this winter.
URL:https://www.haliburtonforest.com/event/kennel-kisses/
END:VEVENT
BEGIN:VEVENT
DTSTART;TZID=America/Toronto:20190518T160000
DTEND;TZID=America/Toronto:20190518T160000
DTSTAMP:20260425T211834
CREATED:20190113T195724Z
LAST-MODIFIED:20190316T144914Z
UID:10301-1558195200-1558195200@www.haliburtonforest.com
SUMMARY:Kennel Kisses
DESCRIPTION:Come into our kennel\, and meet our sled dogs.\n \nWant a little love in your life? Come snuggle with some of our beautiful and incredibly friendly Siberian huskies at our onsite kennel! While visiting the dogs\, you will have the exclusive opportunity to learn and ask questions about how they run as a team\, and love doing it. Each Tour will be approximately 30 minutes in length. \nRegister in advance under our Summer Events to reserve your visit. \nCost: $5 per person\, $10 per family. \nLoved visiting the dogs? Book a dog sled tour for you and your family this winter.
URL:https://www.haliburtonforest.com/event/kennel-kisses/
END:VEVENT
BEGIN:VEVENT
DTSTART;TZID=America/Toronto:20190518T160000
DTEND;TZID=America/Toronto:20190518T160000
DTSTAMP:20260425T211834
CREATED:20190113T195724Z
LAST-MODIFIED:20190316T144914Z
UID:10301-1558195200-1558195200@www.haliburtonforest.com
SUMMARY:Kennel Kisses
DESCRIPTION:Come into our kennel\, and meet our sled dogs.\n \nWant a little love in your life? Come snuggle with some of our beautiful and incredibly friendly Siberian huskies at our onsite kennel! While visiting the dogs\, you will have the exclusive opportunity to learn and ask questions about how they run as a team\, and love doing it. Each Tour will be approximately 30 minutes in length. \nRegister in advance under our Summer Events to reserve your visit. \nCost: $5 per person\, $10 per family. \nLoved visiting the dogs? Book a dog sled tour for you and your family this winter.
URL:https://www.haliburtonforest.com/event/kennel-kisses/
END:VEVENT
BEGIN:VEVENT
DTSTART;TZID=America/Toronto:20190518T160000
DTEND;TZID=America/Toronto:20190518T160000
DTSTAMP:20260425T211834
CREATED:20190113T195724Z
LAST-MODIFIED:20190316T144914Z
UID:10301-1558195200-1558195200@www.haliburtonforest.com
SUMMARY:Kennel Kisses
DESCRIPTION:Come into our kennel\, and meet our sled dogs.\n \nWant a little love in your life? Come snuggle with some of our beautiful and incredibly friendly Siberian huskies at our onsite kennel! While visiting the dogs\, you will have the exclusive opportunity to learn and ask questions about how they run as a team\, and love doing it. Each Tour will be approximately 30 minutes in length. \nRegister in advance under our Summer Events to reserve your visit. \nCost: $5 per person\, $10 per family. \nLoved visiting the dogs? Book a dog sled tour for you and your family this winter.
URL:https://www.haliburtonforest.com/event/kennel-kisses/
END:VEVENT
BEGIN:VEVENT
DTSTART;TZID=America/Toronto:20190518T160000
DTEND;TZID=America/Toronto:20190518T160000
DTSTAMP:20260425T211834
CREATED:20190113T195724Z
LAST-MODIFIED:20190316T144914Z
UID:10301-1558195200-1558195200@www.haliburtonforest.com
SUMMARY:Kennel Kisses
DESCRIPTION:Come into our kennel\, and meet our sled dogs.\n \nWant a little love in your life? Come snuggle with some of our beautiful and incredibly friendly Siberian huskies at our onsite kennel! While visiting the dogs\, you will have the exclusive opportunity to learn and ask questions about how they run as a team\, and love doing it. Each Tour will be approximately 30 minutes in length. \nRegister in advance under our Summer Events to reserve your visit. \nCost: $5 per person\, $10 per family. \nLoved visiting the dogs? Book a dog sled tour for you and your family this winter.
URL:https://www.haliburtonforest.com/event/kennel-kisses/
END:VEVENT
BEGIN:VEVENT
DTSTART;TZID=America/Toronto:20190518T160000
DTEND;TZID=America/Toronto:20190518T160000
DTSTAMP:20260425T211834
CREATED:20190113T195724Z
LAST-MODIFIED:20190316T144914Z
UID:10301-1558195200-1558195200@www.haliburtonforest.com
SUMMARY:Kennel Kisses
DESCRIPTION:Come into our kennel\, and meet our sled dogs.\n \nWant a little love in your life? Come snuggle with some of our beautiful and incredibly friendly Siberian huskies at our onsite kennel! While visiting the dogs\, you will have the exclusive opportunity to learn and ask questions about how they run as a team\, and love doing it. Each Tour will be approximately 30 minutes in length. \nRegister in advance under our Summer Events to reserve your visit. \nCost: $5 per person\, $10 per family. \nLoved visiting the dogs? Book a dog sled tour for you and your family this winter.
URL:https://www.haliburtonforest.com/event/kennel-kisses/
END:VEVENT
BEGIN:VEVENT
DTSTART;TZID=America/Toronto:20190518T160000
DTEND;TZID=America/Toronto:20190518T160000
DTSTAMP:20260425T211834
CREATED:20190113T195724Z
LAST-MODIFIED:20190316T144914Z
UID:10301-1558195200-1558195200@www.haliburtonforest.com
SUMMARY:Kennel Kisses
DESCRIPTION:Come into our kennel\, and meet our sled dogs.\n \nWant a little love in your life? Come snuggle with some of our beautiful and incredibly friendly Siberian huskies at our onsite kennel! While visiting the dogs\, you will have the exclusive opportunity to learn and ask questions about how they run as a team\, and love doing it. Each Tour will be approximately 30 minutes in length. \nRegister in advance under our Summer Events to reserve your visit. \nCost: $5 per person\, $10 per family. \nLoved visiting the dogs? Book a dog sled tour for you and your family this winter.
URL:https://www.haliburtonforest.com/event/kennel-kisses/
END:VEVENT
BEGIN:VEVENT
DTSTART;TZID=America/Toronto:20190518T160000
DTEND;TZID=America/Toronto:20190518T160000
DTSTAMP:20260425T211834
CREATED:20190113T195724Z
LAST-MODIFIED:20190316T144914Z
UID:10301-1558195200-1558195200@www.haliburtonforest.com
SUMMARY:Kennel Kisses
DESCRIPTION:Come into our kennel\, and meet our sled dogs.\n \nWant a little love in your life? Come snuggle with some of our beautiful and incredibly friendly Siberian huskies at our onsite kennel! While visiting the dogs\, you will have the exclusive opportunity to learn and ask questions about how they run as a team\, and love doing it. Each Tour will be approximately 30 minutes in length. \nRegister in advance under our Summer Events to reserve your visit. \nCost: $5 per person\, $10 per family. \nLoved visiting the dogs? Book a dog sled tour for you and your family this winter.
URL:https://www.haliburtonforest.com/event/kennel-kisses/
END:VEVENT
BEGIN:VEVENT
DTSTART;TZID=America/Toronto:20190518T160000
DTEND;TZID=America/Toronto:20190518T160000
DTSTAMP:20260425T211834
CREATED:20190113T195724Z
LAST-MODIFIED:20190316T144914Z
UID:10301-1558195200-1558195200@www.haliburtonforest.com
SUMMARY:Kennel Kisses
DESCRIPTION:Come into our kennel\, and meet our sled dogs.\n \nWant a little love in your life? Come snuggle with some of our beautiful and incredibly friendly Siberian huskies at our onsite kennel! While visiting the dogs\, you will have the exclusive opportunity to learn and ask questions about how they run as a team\, and love doing it. Each Tour will be approximately 30 minutes in length. \nRegister in advance under our Summer Events to reserve your visit. \nCost: $5 per person\, $10 per family. \nLoved visiting the dogs? Book a dog sled tour for you and your family this winter.
URL:https://www.haliburtonforest.com/event/kennel-kisses/
END:VEVENT
BEGIN:VEVENT
DTSTART;TZID=America/Toronto:20190518T160000
DTEND;TZID=America/Toronto:20190518T160000
DTSTAMP:20260425T211834
CREATED:20190113T195724Z
LAST-MODIFIED:20190316T144914Z
UID:10301-1558195200-1558195200@www.haliburtonforest.com
SUMMARY:Kennel Kisses
DESCRIPTION:Come into our kennel\, and meet our sled dogs.\n \nWant a little love in your life? Come snuggle with some of our beautiful and incredibly friendly Siberian huskies at our onsite kennel! While visiting the dogs\, you will have the exclusive opportunity to learn and ask questions about how they run as a team\, and love doing it. Each Tour will be approximately 30 minutes in length. \nRegister in advance under our Summer Events to reserve your visit. \nCost: $5 per person\, $10 per family. \nLoved visiting the dogs? Book a dog sled tour for you and your family this winter.
URL:https://www.haliburtonforest.com/event/kennel-kisses/
END:VEVENT
BEGIN:VEVENT
DTSTART;TZID=America/Toronto:20190518T160000
DTEND;TZID=America/Toronto:20190518T160000
DTSTAMP:20260425T211834
CREATED:20190113T195724Z
LAST-MODIFIED:20190316T144914Z
UID:10301-1558195200-1558195200@www.haliburtonforest.com
SUMMARY:Kennel Kisses
DESCRIPTION:Come into our kennel\, and meet our sled dogs.\n \nWant a little love in your life? Come snuggle with some of our beautiful and incredibly friendly Siberian huskies at our onsite kennel! While visiting the dogs\, you will have the exclusive opportunity to learn and ask questions about how they run as a team\, and love doing it. Each Tour will be approximately 30 minutes in length. \nRegister in advance under our Summer Events to reserve your visit. \nCost: $5 per person\, $10 per family. \nLoved visiting the dogs? Book a dog sled tour for you and your family this winter.
URL:https://www.haliburtonforest.com/event/kennel-kisses/
END:VEVENT
BEGIN:VEVENT
DTSTART;TZID=America/Toronto:20190518T160000
DTEND;TZID=America/Toronto:20190518T160000
DTSTAMP:20260425T211834
CREATED:20190113T195724Z
LAST-MODIFIED:20190316T144914Z
UID:10301-1558195200-1558195200@www.haliburtonforest.com
SUMMARY:Kennel Kisses
DESCRIPTION:Come into our kennel\, and meet our sled dogs.\n \nWant a little love in your life? Come snuggle with some of our beautiful and incredibly friendly Siberian huskies at our onsite kennel! While visiting the dogs\, you will have the exclusive opportunity to learn and ask questions about how they run as a team\, and love doing it. Each Tour will be approximately 30 minutes in length. \nRegister in advance under our Summer Events to reserve your visit. \nCost: $5 per person\, $10 per family. \nLoved visiting the dogs? Book a dog sled tour for you and your family this winter.
URL:https://www.haliburtonforest.com/event/kennel-kisses/
END:VEVENT
BEGIN:VEVENT
DTSTART;TZID=America/Toronto:20190518T160000
DTEND;TZID=America/Toronto:20190518T160000
DTSTAMP:20260425T211834
CREATED:20190113T195724Z
LAST-MODIFIED:20190316T144914Z
UID:10301-1558195200-1558195200@www.haliburtonforest.com
SUMMARY:Kennel Kisses
DESCRIPTION:Come into our kennel\, and meet our sled dogs.\n \nWant a little love in your life? Come snuggle with some of our beautiful and incredibly friendly Siberian huskies at our onsite kennel! While visiting the dogs\, you will have the exclusive opportunity to learn and ask questions about how they run as a team\, and love doing it. Each Tour will be approximately 30 minutes in length. \nRegister in advance under our Summer Events to reserve your visit. \nCost: $5 per person\, $10 per family. \nLoved visiting the dogs? Book a dog sled tour for you and your family this winter.
URL:https://www.haliburtonforest.com/event/kennel-kisses/
END:VEVENT
BEGIN:VEVENT
DTSTART;TZID=America/Toronto:20190518T160000
DTEND;TZID=America/Toronto:20190518T160000
DTSTAMP:20260425T211834
CREATED:20190113T195724Z
LAST-MODIFIED:20190316T144914Z
UID:10301-1558195200-1558195200@www.haliburtonforest.com
SUMMARY:Kennel Kisses
DESCRIPTION:Come into our kennel\, and meet our sled dogs.\n \nWant a little love in your life? Come snuggle with some of our beautiful and incredibly friendly Siberian huskies at our onsite kennel! While visiting the dogs\, you will have the exclusive opportunity to learn and ask questions about how they run as a team\, and love doing it. Each Tour will be approximately 30 minutes in length. \nRegister in advance under our Summer Events to reserve your visit. \nCost: $5 per person\, $10 per family. \nLoved visiting the dogs? Book a dog sled tour for you and your family this winter.
URL:https://www.haliburtonforest.com/event/kennel-kisses/
END:VEVENT
BEGIN:VEVENT
DTSTART;TZID=America/Toronto:20190518T160000
DTEND;TZID=America/Toronto:20190518T160000
DTSTAMP:20260425T211834
CREATED:20190113T195724Z
LAST-MODIFIED:20190316T144914Z
UID:10301-1558195200-1558195200@www.haliburtonforest.com
SUMMARY:Kennel Kisses
DESCRIPTION:Come into our kennel\, and meet our sled dogs.\n \nWant a little love in your life? Come snuggle with some of our beautiful and incredibly friendly Siberian huskies at our onsite kennel! While visiting the dogs\, you will have the exclusive opportunity to learn and ask questions about how they run as a team\, and love doing it. Each Tour will be approximately 30 minutes in length. \nRegister in advance under our Summer Events to reserve your visit. \nCost: $5 per person\, $10 per family. \nLoved visiting the dogs? Book a dog sled tour for you and your family this winter.
URL:https://www.haliburtonforest.com/event/kennel-kisses/
END:VEVENT
BEGIN:VEVENT
DTSTART;TZID=America/Toronto:20190518T160000
DTEND;TZID=America/Toronto:20190518T160000
DTSTAMP:20260425T211834
CREATED:20190113T195724Z
LAST-MODIFIED:20190316T144914Z
UID:10301-1558195200-1558195200@www.haliburtonforest.com
SUMMARY:Kennel Kisses
DESCRIPTION:Come into our kennel\, and meet our sled dogs.\n \nWant a little love in your life? Come snuggle with some of our beautiful and incredibly friendly Siberian huskies at our onsite kennel! While visiting the dogs\, you will have the exclusive opportunity to learn and ask questions about how they run as a team\, and love doing it. Each Tour will be approximately 30 minutes in length. \nRegister in advance under our Summer Events to reserve your visit. \nCost: $5 per person\, $10 per family. \nLoved visiting the dogs? Book a dog sled tour for you and your family this winter.
URL:https://www.haliburtonforest.com/event/kennel-kisses/
END:VEVENT
BEGIN:VEVENT
DTSTART;TZID=America/Toronto:20190518T160000
DTEND;TZID=America/Toronto:20190518T160000
DTSTAMP:20260425T211834
CREATED:20190113T195724Z
LAST-MODIFIED:20190316T144914Z
UID:10301-1558195200-1558195200@www.haliburtonforest.com
SUMMARY:Kennel Kisses
DESCRIPTION:Come into our kennel\, and meet our sled dogs.\n \nWant a little love in your life? Come snuggle with some of our beautiful and incredibly friendly Siberian huskies at our onsite kennel! While visiting the dogs\, you will have the exclusive opportunity to learn and ask questions about how they run as a team\, and love doing it. Each Tour will be approximately 30 minutes in length. \nRegister in advance under our Summer Events to reserve your visit. \nCost: $5 per person\, $10 per family. \nLoved visiting the dogs? Book a dog sled tour for you and your family this winter.
URL:https://www.haliburtonforest.com/event/kennel-kisses/
END:VEVENT
END:VCALENDAR